BEGIN:VCALENDAR
VERSION:2.0
BEGIN:VEVENT
PRODID:-//EventsAdmin//EN
UID:40b229e3-b6c1-40ba-9fcd-b3773395b3ff@eventsadmin.com
DTSTAMP:20260419T123237Z
TRANSP:TRANSPARENT
DTSTART:20250619T180000
DTEND:20250619T200000
SUMMARY;ENCODING=QUOTED-PRINTABLE:Giovedì 19 giugno
LOCATION;ENCODING=QUOTED-PRINTABLE:Oxy.gen - Via Campestre angolo via Meucci 20091 Bresso (MI)
DESCRIPTION;ENCODING=QUOTED-PRINTABLE:Creare un Rituale Quotidiano con gli Oli Essenziali
END:VEVENT
END:VCALENDAR
