BEGIN:VCALENDAR
VERSION:2.0
BEGIN:VEVENT
PRODID:-//EventsAdmin//EN
UID:c75ecc7c-c6f3-40d4-89ef-f8c2f05ffdff@eventsadmin.com
DTSTAMP:20260419T122442Z
TRANSP:TRANSPARENT
DTSTART:20250612T180000
DTEND:20250612T200000
SUMMARY;ENCODING=QUOTED-PRINTABLE:Giovedì 12 giugno
LOCATION;ENCODING=QUOTED-PRINTABLE:Oxy.gen - Via Campestre angolo via Meucci 20091 Bresso (MI)
DESCRIPTION;ENCODING=QUOTED-PRINTABLE:Il Respiro e le Emozioni –Aromaterapia e Benessere Psicofisici 
END:VEVENT
END:VCALENDAR
