BEGIN:VCALENDAR
VERSION:2.0
BEGIN:VEVENT
PRODID:-//EventsAdmin//EN
UID:3e907b43-cdeb-4329-ac64-7f43deea1887@eventsadmin.com
DTSTAMP:20260421T125321Z
TRANSP:TRANSPARENT
DTSTART:20250529T180000
DTEND:20250529T200000
SUMMARY;ENCODING=QUOTED-PRINTABLE:Giovedì 29 maggio
LOCATION;ENCODING=QUOTED-PRINTABLE:Oxy.gen - Via Campestre angolo via Meucci 20091 Bresso (MI)
DESCRIPTION;ENCODING=QUOTED-PRINTABLE:Oli Essenziali per il Benessere delle Vie Respiratorie
END:VEVENT
END:VCALENDAR
