BEGIN:VCALENDAR
VERSION:2.0
BEGIN:VEVENT
PRODID:-//EventsAdmin//EN
UID:fcd09dee-6b08-42c2-92b9-2474ad306428@eventsadmin.com
DTSTAMP:20260419T122643Z
TRANSP:TRANSPARENT
DTSTART:20250515T180000
DTEND:20250515T200000
SUMMARY;ENCODING=QUOTED-PRINTABLE:Giovedì 15 maggio
LOCATION;ENCODING=QUOTED-PRINTABLE:Oxy.gen - Via Campestre angolo via Meucci 20091 Bresso (MI)
DESCRIPTION;ENCODING=QUOTED-PRINTABLE:Il Respiro e gli Oli Essenziali –Introduzione e Fondamenti
END:VEVENT
END:VCALENDAR
